BEGIN:VCALENDAR
VERSION:2.0
PRODID:-//Fellowship of the Phoenix - ECPv6.15.17.1//NONSGML v1.0//EN
CALSCALE:GREGORIAN
METHOD:PUBLISH
X-WR-CALNAME:Fellowship of the Phoenix
X-ORIGINAL-URL:https://fellowshipofthephoenix.org
X-WR-CALDESC:Events for Fellowship of the Phoenix
REFRESH-INTERVAL;VALUE=DURATION:PT1H
X-Robots-Tag:noindex
X-PUBLISHED-TTL:PT1H
BEGIN:VTIMEZONE
TZID:America/Chicago
BEGIN:DAYLIGHT
TZOFFSETFROM:-0600
TZOFFSETTO:-0500
TZNAME:CDT
DTSTART:20210314T080000
END:DAYLIGHT
BEGIN:STANDARD
TZOFFSETFROM:-0500
TZOFFSETTO:-0600
TZNAME:CST
DTSTART:20211107T070000
END:STANDARD
BEGIN:DAYLIGHT
TZOFFSETFROM:-0600
TZOFFSETTO:-0500
TZNAME:CDT
DTSTART:20220313T080000
END:DAYLIGHT
BEGIN:STANDARD
TZOFFSETFROM:-0500
TZOFFSETTO:-0600
TZNAME:CST
DTSTART:20221106T070000
END:STANDARD
BEGIN:DAYLIGHT
TZOFFSETFROM:-0600
TZOFFSETTO:-0500
TZNAME:CDT
DTSTART:20230312T080000
END:DAYLIGHT
BEGIN:STANDARD
TZOFFSETFROM:-0500
TZOFFSETTO:-0600
TZNAME:CST
DTSTART:20231105T070000
END:STANDARD
BEGIN:DAYLIGHT
TZOFFSETFROM:-0600
TZOFFSETTO:-0500
TZNAME:CDT
DTSTART:20240310T080000
END:DAYLIGHT
BEGIN:STANDARD
TZOFFSETFROM:-0500
TZOFFSETTO:-0600
TZNAME:CST
DTSTART:20241103T070000
END:STANDARD
END:VTIMEZONE
BEGIN:VEVENT
DTSTART;TZID=America/Chicago:20230424T190000
DTEND;TZID=America/Chicago:20230424T200000
DTSTAMP:20260425T085437
CREATED:20230218T224854Z
LAST-MODIFIED:20230218T225157Z
UID:10000067-1682362800-1682366400@fellowshipofthephoenix.org
SUMMARY:Chicago Ritual Planning
DESCRIPTION:Chicago Temple member and seekers will meet on Zoom to plan our Fire Dance ritual (May 13). Individuals can also volunteer for roles before or after this meeting by contacting Rev. Chris. \nScroll down and click the “watch” button to access the Zoom meeting.
URL:https://fellowshipofthephoenix.org/event/chicago-ritual-planning-3/
CATEGORIES:Ritual Planning
ORGANIZER;CN="Chris Allaun":MAILTO:chris.allaun@fotpchicago.org
LOCATION:https://us06web.zoom.us/j/89277244172?pwd=VTBsY09DK2ZmWFJJbHpML1Z0elJiZz09
END:VEVENT
BEGIN:VEVENT
DTSTART;TZID=America/Chicago:20230320T190000
DTEND;TZID=America/Chicago:20230320T200000
DTSTAMP:20260425T085437
CREATED:20230218T224241Z
LAST-MODIFIED:20230218T224906Z
UID:10000066-1679338800-1679342400@fellowshipofthephoenix.org
SUMMARY:Chicago Ritual Planning
DESCRIPTION:Chicago Temple member and seekers will meet on Zoom to plan our Quintessence ritual (April 1). Individuals can also volunteer for roles before or after this meeting by contacting Rev. Chris. \nScroll down and click the “watch” button to access the Zoom meeting.
URL:https://fellowshipofthephoenix.org/event/chicago-ritual-planning-2/
CATEGORIES:Ritual Planning
ORGANIZER;CN="Chris Allaun":MAILTO:chris.allaun@fotpchicago.org
LOCATION:https://us06web.zoom.us/j/89277244172?pwd=VTBsY09DK2ZmWFJJbHpML1Z0elJiZz09
END:VEVENT
BEGIN:VEVENT
DTSTART;TZID=America/Chicago:20221228T190000
DTEND;TZID=America/Chicago:20221228T203000
DTSTAMP:20260425T085437
CREATED:20221009T174632Z
LAST-MODIFIED:20221226T165448Z
UID:10000102-1672254000-1672259400@fellowshipofthephoenix.org
SUMMARY:Chicago Ritual Planning
DESCRIPTION:We will be planning Chicago Temple’s online winter ritual (The Fire of the Dragon held on Jan. 21).\nMembers and non-members are welcome to help us plan and perform the ritual. \nClick the “watch” button to access the Zoom meeting.
URL:https://fellowshipofthephoenix.org/event/chicago-ritual-planning/
CATEGORIES:Ritual Planning
LOCATION:https://us06web.zoom.us/j/84360042747?pwd=VzliOWFzYjJHUDJEU2VPK0hhUndvdz09
END:VEVENT
END:VCALENDAR