BEGIN:VCALENDAR
VERSION:2.0
PRODID:-//Fellowship of the Phoenix - ECPv6.15.17.1//NONSGML v1.0//EN
CALSCALE:GREGORIAN
METHOD:PUBLISH
X-WR-CALNAME:Fellowship of the Phoenix
X-ORIGINAL-URL:https://fellowshipofthephoenix.org
X-WR-CALDESC:Events for Fellowship of the Phoenix
REFRESH-INTERVAL;VALUE=DURATION:PT1H
X-Robots-Tag:noindex
X-PUBLISHED-TTL:PT1H
BEGIN:VTIMEZONE
TZID:America/Los_Angeles
BEGIN:DAYLIGHT
TZOFFSETFROM:-0800
TZOFFSETTO:-0700
TZNAME:PDT
DTSTART:20220313T100000
END:DAYLIGHT
BEGIN:STANDARD
TZOFFSETFROM:-0700
TZOFFSETTO:-0800
TZNAME:PST
DTSTART:20221106T090000
END:STANDARD
BEGIN:DAYLIGHT
TZOFFSETFROM:-0800
TZOFFSETTO:-0700
TZNAME:PDT
DTSTART:20230312T100000
END:DAYLIGHT
BEGIN:STANDARD
TZOFFSETFROM:-0700
TZOFFSETTO:-0800
TZNAME:PST
DTSTART:20231105T090000
END:STANDARD
BEGIN:DAYLIGHT
TZOFFSETFROM:-0800
TZOFFSETTO:-0700
TZNAME:PDT
DTSTART:20240310T100000
END:DAYLIGHT
BEGIN:STANDARD
TZOFFSETFROM:-0700
TZOFFSETTO:-0800
TZNAME:PST
DTSTART:20241103T090000
END:STANDARD
END:VTIMEZONE
BEGIN:VTIMEZONE
TZID:America/Chicago
BEGIN:DAYLIGHT
TZOFFSETFROM:-0600
TZOFFSETTO:-0500
TZNAME:CDT
DTSTART:20220313T080000
END:DAYLIGHT
BEGIN:STANDARD
TZOFFSETFROM:-0500
TZOFFSETTO:-0600
TZNAME:CST
DTSTART:20221106T070000
END:STANDARD
BEGIN:DAYLIGHT
TZOFFSETFROM:-0600
TZOFFSETTO:-0500
TZNAME:CDT
DTSTART:20230312T080000
END:DAYLIGHT
BEGIN:STANDARD
TZOFFSETFROM:-0500
TZOFFSETTO:-0600
TZNAME:CST
DTSTART:20231105T070000
END:STANDARD
BEGIN:DAYLIGHT
TZOFFSETFROM:-0600
TZOFFSETTO:-0500
TZNAME:CDT
DTSTART:20240310T080000
END:DAYLIGHT
BEGIN:STANDARD
TZOFFSETFROM:-0500
TZOFFSETTO:-0600
TZNAME:CST
DTSTART:20241103T070000
END:STANDARD
END:VTIMEZONE
BEGIN:VEVENT
DTSTART;TZID=America/Los_Angeles:20230701T120000
DTEND;TZID=America/Los_Angeles:20230701T150000
DTSTAMP:20260425T211954
CREATED:20230515T192303Z
LAST-MODIFIED:20230603T170003Z
UID:10000124-1688212800-1688223600@fellowshipofthephoenix.org
SUMMARY:Ethics and Conflict Seminar
DESCRIPTION:Description forthcoming! \n\n\n\nMeeting link: https://meet.google.com/ces-xarg-pqcJoin by phone: (484) 886-4079; PIN: 944 875 402#
URL:https://fellowshipofthephoenix.org/event/ethics-and-conflict-seminar/
LOCATION:WA
CATEGORIES:Workshop
END:VEVENT
BEGIN:VEVENT
DTSTART;TZID=America/Los_Angeles:20230708T173000
DTEND;TZID=America/Los_Angeles:20230708T190000
DTSTAMP:20260425T211954
CREATED:20230131T221206Z
LAST-MODIFIED:20230702T184731Z
UID:10000112-1688837400-1688842800@fellowshipofthephoenix.org
SUMMARY:Apotheosis - Seattle 2023
DESCRIPTION:Join us as we honor the Queer Divinity known as the Healer! \nThrough the course of our celebration we will assert our place in this world as Queer people\, magical and fierce and strong. We will meet the Divine and receive Their gift. We will journey through the Labyrinth together and embrace that which lies in its center. \nCome\, and allow us to introduce you to our queer deities\, spirits\, and spiritual landscape. Find community in a space devoted to queer power and spiritual exploration.
URL:https://fellowshipofthephoenix.org/event/apotheosis-seattle-2023/
LOCATION:University Friends Meeting – Seattle\, 4001 9th Ave NE\, Seattle\, WA\, 98105\, United States
ATTACH;FMTTYPE=image/jpeg:https://fellowshipofthephoenix.org/wp-content/uploads/2021/11/apotheosis-banner.jpg
END:VEVENT
BEGIN:VEVENT
DTSTART;TZID=America/Chicago:20230708T173000
DTEND;TZID=America/Chicago:20230708T190000
DTSTAMP:20260425T211954
CREATED:20230326T221429Z
LAST-MODIFIED:20230326T221859Z
UID:10000068-1688837400-1688842800@fellowshipofthephoenix.org
SUMMARY:Apotheosis – Chicago 2023
DESCRIPTION:Join us as we honor the Queer Divinity known as the Healer! \n\n\n\nThrough the course of our celebration we will assert our place in this world as Queer people\, magical and fierce and strong. We will meet the Divine and receive Their gift.  \n\n\n\nCome\, and allow us to introduce you to our queer deities\, spirits\, and spiritual landscape. Find community in a space devoted to queer power and spiritual exploration.
URL:https://fellowshipofthephoenix.org/event/apotheosis-chicago-2023/
LOCATION:Life Force Arts Center\, 1609 W Belmont Ave\, Chicago\, IL\, 60657\, United States
CATEGORIES:Holiday Ritual
ATTACH;FMTTYPE=image/jpeg:https://fellowshipofthephoenix.org/wp-content/uploads/2021/11/apotheosis-banner.jpg
ORGANIZER;CN="Chris Allaun":MAILTO:chris.allaun@fotpchicago.org
END:VEVENT
BEGIN:VEVENT
DTSTART;TZID=America/Chicago:20230718T190000
DTEND;TZID=America/Chicago:20230718T210000
DTSTAMP:20260425T211954
CREATED:20230213T002144Z
LAST-MODIFIED:20230718T001117Z
UID:10000065-1689706800-1689714000@fellowshipofthephoenix.org
SUMMARY:Fellowship Hangout
DESCRIPTION:Join us for some virtual social time – no agenda or set topic\, just drop in for some conversation with fellow queer folk. \nZoom link: https://us06web.zoom.us/j/88965358565?pwd=OXhWbVhVMXBxdVdhWCtRNnRUZW44dz09
URL:https://fellowshipofthephoenix.org/event/fellowship-hangout-4/
LOCATION:https://us06web.zoom.us/j/88965358565?pwd=OXhWbVhVMXBxdVdhWCtRNnRUZW44dz09
CATEGORIES:Social
ATTACH;FMTTYPE=image/png:https://fellowshipofthephoenix.org/wp-content/uploads/2023/03/hangout.png
ORGANIZER;CN="B.A. Davis-Howe":MAILTO:ba@fellowshipofthephoenix.org
END:VEVENT
END:VCALENDAR