BEGIN:VCALENDAR
VERSION:2.0
PRODID:-//Fellowship of the Phoenix - ECPv6.15.17.1//NONSGML v1.0//EN
CALSCALE:GREGORIAN
METHOD:PUBLISH
X-ORIGINAL-URL:https://fellowshipofthephoenix.org
X-WR-CALDESC:Events for Fellowship of the Phoenix
REFRESH-INTERVAL;VALUE=DURATION:PT1H
X-Robots-Tag:noindex
X-PUBLISHED-TTL:PT1H
BEGIN:VTIMEZONE
TZID:America/Los_Angeles
BEGIN:DAYLIGHT
TZOFFSETFROM:-0800
TZOFFSETTO:-0700
TZNAME:PDT
DTSTART:20220313T100000
END:DAYLIGHT
BEGIN:STANDARD
TZOFFSETFROM:-0700
TZOFFSETTO:-0800
TZNAME:PST
DTSTART:20221106T090000
END:STANDARD
BEGIN:DAYLIGHT
TZOFFSETFROM:-0800
TZOFFSETTO:-0700
TZNAME:PDT
DTSTART:20230312T100000
END:DAYLIGHT
BEGIN:STANDARD
TZOFFSETFROM:-0700
TZOFFSETTO:-0800
TZNAME:PST
DTSTART:20231105T090000
END:STANDARD
BEGIN:DAYLIGHT
TZOFFSETFROM:-0800
TZOFFSETTO:-0700
TZNAME:PDT
DTSTART:20240310T100000
END:DAYLIGHT
BEGIN:STANDARD
TZOFFSETFROM:-0700
TZOFFSETTO:-0800
TZNAME:PST
DTSTART:20241103T090000
END:STANDARD
END:VTIMEZONE
BEGIN:VTIMEZONE
TZID:America/Chicago
BEGIN:DAYLIGHT
TZOFFSETFROM:-0600
TZOFFSETTO:-0500
TZNAME:CDT
DTSTART:20220313T080000
END:DAYLIGHT
BEGIN:STANDARD
TZOFFSETFROM:-0500
TZOFFSETTO:-0600
TZNAME:CST
DTSTART:20221106T070000
END:STANDARD
BEGIN:DAYLIGHT
TZOFFSETFROM:-0600
TZOFFSETTO:-0500
TZNAME:CDT
DTSTART:20230312T080000
END:DAYLIGHT
BEGIN:STANDARD
TZOFFSETFROM:-0500
TZOFFSETTO:-0600
TZNAME:CST
DTSTART:20231105T070000
END:STANDARD
BEGIN:DAYLIGHT
TZOFFSETFROM:-0600
TZOFFSETTO:-0500
TZNAME:CDT
DTSTART:20240310T080000
END:DAYLIGHT
BEGIN:STANDARD
TZOFFSETFROM:-0500
TZOFFSETTO:-0600
TZNAME:CST
DTSTART:20241103T070000
END:STANDARD
END:VTIMEZONE
BEGIN:VEVENT
DTSTART;TZID=America/Los_Angeles:20230901T080000
DTEND;TZID=America/Los_Angeles:20230904T170000
DTSTAMP:20260425T183629
CREATED:20230817T232747Z
LAST-MODIFIED:20230817T233918Z
UID:10000125-1693555200-1693846800@fellowshipofthephoenix.org
SUMMARY:Seattle Members Retreat 2023
DESCRIPTION:What? When? Where?\n\n\n\nThe Soulsong 2023 retreat’s theme is Above and Below. It will be held Friday\, September 1st – Monday\, Sept 4th. As in years past\, this event in for members only and is a lovely chance to get away and spend some time extended time in community. \n\n\n\nFor more information\, please check your email or see the post on the members site
URL:https://fellowshipofthephoenix.org/event/seattle-members-retreat-2023/
LOCATION:WA
ATTACH;FMTTYPE=image/png:https://fellowshipofthephoenix.org/wp-content/uploads/2023/03/Queer-Pride-TerraStars-black.png
END:VEVENT
BEGIN:VEVENT
DTSTART;TZID=America/Chicago:20230911T190000
DTEND;TZID=America/Chicago:20230911T203000
DTSTAMP:20260425T183629
CREATED:20230908T001730Z
LAST-MODIFIED:20230908T001944Z
UID:10000126-1694458800-1694464200@fellowshipofthephoenix.org
SUMMARY:Chicago Temple Meeting
DESCRIPTION:Chicago Temple has a Zoom meeting at 7pm Central Time each month to plan our activities and handle any other business. Seekers are welcome to attend. \n\n\n\nEcstasis planning at this meeting. \n\n\n\nZoom link: https://us06web.zoom.us/j/89277244172?pwd=VTBsY09DK2ZmWFJJbHpML1Z0elJiZz09
URL:https://fellowshipofthephoenix.org/event/chicago-temple-meeting/
LOCATION:WA
CATEGORIES:Business
ORGANIZER;CN="Chris Allaun":MAILTO:chris.allaun@fotpchicago.org
END:VEVENT
BEGIN:VEVENT
DTSTART;TZID=America/Chicago:20230919T190000
DTEND;TZID=America/Chicago:20230919T210000
DTSTAMP:20260425T183629
CREATED:20230908T002723Z
LAST-MODIFIED:20230908T002835Z
UID:10000128-1695150000-1695157200@fellowshipofthephoenix.org
SUMMARY:Fellowship Hangout
DESCRIPTION:Join us for some virtual social time – no agenda or set topic\, just drop in for some conversation with fellow queer folk. \n\n\n\nZoom link: https://us06web.zoom.us/j/88965358565?pwd=OXhWbVhVMXBxdVdhWCtRNnRUZW44dz09
URL:https://fellowshipofthephoenix.org/event/1752/
LOCATION:WA
CATEGORIES:Social
ATTACH;FMTTYPE=image/png:https://fellowshipofthephoenix.org/wp-content/uploads/2023/03/hangout.png
ORGANIZER;CN="B.A. Davis-Howe":MAILTO:ba@fellowshipofthephoenix.org
END:VEVENT
BEGIN:VEVENT
DTSTART;TZID=America/Los_Angeles:20230930T173000
DTEND;TZID=America/Los_Angeles:20230930T190000
DTSTAMP:20260425T183629
CREATED:20230131T222415Z
LAST-MODIFIED:20230817T234244Z
UID:10000114-1696095000-1696100400@fellowshipofthephoenix.org
SUMMARY:Ecstasis - Seattle 2023
DESCRIPTION:Join us as we honor the Queer Divinity known as the Liberator\, who brings both balance and ecstasy through the alchemical destruction of binary thinking.\n\nThrough the course of our celebration we will assert our place in this world as Queer people\, magical and fierce and strong. We will meet the Divine and receive Their gift. We will journey through the Labyrinth together and embrace that which lies in its center.\n\nCome\, and allow us to introduce you to our queer deities\, spirits\, and spiritual landscape. Find community in a space devoted to queer power and spiritual exploration.
URL:https://fellowshipofthephoenix.org/event/ecstasis-seattle-2023/
LOCATION:University Friends Meeting – Seattle\, 4001 9th Ave NE\, Seattle\, WA\, 98105\, United States
CATEGORIES:Holiday Ritual
ATTACH;FMTTYPE=image/jpeg:https://fellowshipofthephoenix.org/wp-content/uploads/2021/11/ecstasis-banner.jpg
END:VEVENT
END:VCALENDAR