BEGIN:VCALENDAR
VERSION:2.0
PRODID:-//Fellowship of the Phoenix - ECPv6.15.17.1//NONSGML v1.0//EN
CALSCALE:GREGORIAN
METHOD:PUBLISH
X-WR-CALNAME:Fellowship of the Phoenix
X-ORIGINAL-URL:https://fellowshipofthephoenix.org
X-WR-CALDESC:Events for Fellowship of the Phoenix
REFRESH-INTERVAL;VALUE=DURATION:PT1H
X-Robots-Tag:noindex
X-PUBLISHED-TTL:PT1H
BEGIN:VTIMEZONE
TZID:America/Los_Angeles
BEGIN:DAYLIGHT
TZOFFSETFROM:-0800
TZOFFSETTO:-0700
TZNAME:PDT
DTSTART:20220313T100000
END:DAYLIGHT
BEGIN:STANDARD
TZOFFSETFROM:-0700
TZOFFSETTO:-0800
TZNAME:PST
DTSTART:20221106T090000
END:STANDARD
BEGIN:DAYLIGHT
TZOFFSETFROM:-0800
TZOFFSETTO:-0700
TZNAME:PDT
DTSTART:20230312T100000
END:DAYLIGHT
BEGIN:STANDARD
TZOFFSETFROM:-0700
TZOFFSETTO:-0800
TZNAME:PST
DTSTART:20231105T090000
END:STANDARD
BEGIN:DAYLIGHT
TZOFFSETFROM:-0800
TZOFFSETTO:-0700
TZNAME:PDT
DTSTART:20240310T100000
END:DAYLIGHT
BEGIN:STANDARD
TZOFFSETFROM:-0700
TZOFFSETTO:-0800
TZNAME:PST
DTSTART:20241103T090000
END:STANDARD
END:VTIMEZONE
BEGIN:VTIMEZONE
TZID:America/Chicago
BEGIN:DAYLIGHT
TZOFFSETFROM:-0600
TZOFFSETTO:-0500
TZNAME:CDT
DTSTART:20220313T080000
END:DAYLIGHT
BEGIN:STANDARD
TZOFFSETFROM:-0500
TZOFFSETTO:-0600
TZNAME:CST
DTSTART:20221106T070000
END:STANDARD
BEGIN:DAYLIGHT
TZOFFSETFROM:-0600
TZOFFSETTO:-0500
TZNAME:CDT
DTSTART:20230312T080000
END:DAYLIGHT
BEGIN:STANDARD
TZOFFSETFROM:-0500
TZOFFSETTO:-0600
TZNAME:CST
DTSTART:20231105T070000
END:STANDARD
BEGIN:DAYLIGHT
TZOFFSETFROM:-0600
TZOFFSETTO:-0500
TZNAME:CDT
DTSTART:20240310T080000
END:DAYLIGHT
BEGIN:STANDARD
TZOFFSETFROM:-0500
TZOFFSETTO:-0600
TZNAME:CST
DTSTART:20241103T070000
END:STANDARD
END:VTIMEZONE
BEGIN:VEVENT
DTSTART;TZID=America/Los_Angeles:20231111T173000
DTEND;TZID=America/Los_Angeles:20231111T190000
DTSTAMP:20260425T153214
CREATED:20230131T222631Z
LAST-MODIFIED:20240302T222547Z
UID:10000115-1699723800-1699729200@fellowshipofthephoenix.org
SUMMARY:ShadowDance - Seattle 2023
DESCRIPTION:Join us as we honor the Queer Divinity known as the Mystic\, who unveils the starry sky and reveals the serpentine paths to Gnosis.\n\nThrough the course of our celebration we will assert our place in this world as Queer people\, magical and fierce and strong. We will meet the Divine and receive Their gift. We will journey through the Labyrinth together and embrace that which lies in its center.\n\nCome\, and allow us to introduce you to our queer deities\, spirits\, and spiritual landscape. Find community in a space devoted to queer power and spiritual exploration.
URL:https://fellowshipofthephoenix.org/event/shadowdance-seattle-2023/
LOCATION:University Friends Meeting – Seattle\, 4001 9th Ave NE\, Seattle\, WA\, 98105\, United States
CATEGORIES:Holiday Ritual
ATTACH;FMTTYPE=image/jpeg:https://fellowshipofthephoenix.org/wp-content/uploads/2021/11/shadowdance-banner.jpg
END:VEVENT
BEGIN:VEVENT
DTSTART;TZID=America/Chicago:20231111T173000
DTEND;TZID=America/Chicago:20231111T190000
DTSTAMP:20260425T153214
CREATED:20230326T223221Z
LAST-MODIFIED:20231014T202710Z
UID:10000071-1699723800-1699729200@fellowshipofthephoenix.org
SUMMARY:ShadowDance – Chicago 2023
DESCRIPTION:Join us as we honor the Queer Divinity known as the Mystic and the Ancestors!  \n\n\n\nThrough the course of our celebration we will assert our place in this world as Queer people\, magical and fierce and strong. We will meet the Divine and receive Their gift. \n\n\n\nCome\, and allow us to introduce you to our queer deities\, spirits\, and spiritual landscape. Find community in a space devoted to queer power and spiritual exploration. \n\n\n\nMasks are encouraged!
URL:https://fellowshipofthephoenix.org/event/shadowdance-chicago-2023/
LOCATION:Life Force Arts Center\, 1609 W Belmont Ave\, Chicago\, IL\, 60657\, United States
CATEGORIES:Holiday Ritual
ATTACH;FMTTYPE=image/jpeg:https://fellowshipofthephoenix.org/wp-content/uploads/2021/11/shadowdance-banner.jpg
ORGANIZER;CN="Chris Allaun":MAILTO:chris.allaun@fotpchicago.org
END:VEVENT
BEGIN:VEVENT
DTSTART;TZID=America/Chicago:20231120T190000
DTEND;TZID=America/Chicago:20231120T203000
DTSTAMP:20260425T153214
CREATED:20231014T202104Z
LAST-MODIFIED:20231014T202543Z
UID:10000131-1700506800-1700512200@fellowshipofthephoenix.org
SUMMARY:Chicago Temple Meeting
DESCRIPTION:Chicago Temple has a Zoom meeting at 7pm Central Time each month to plan our activities and handle any other business. Seekers are welcome to attend. \n\n\n\nPlanning online Winter Ritual begins at this meeting. \n\n\n\nZoom link: https://us06web.zoom.us/j/89277244172?pwd=VTBsY09DK2ZmWFJJbHpML1Z0elJiZz09
URL:https://fellowshipofthephoenix.org/event/1761/
LOCATION:WA
CATEGORIES:Business
ORGANIZER;CN="Chris Allaun":MAILTO:chris.allaun@fotpchicago.org
END:VEVENT
BEGIN:VEVENT
DTSTART;TZID=America/Chicago:20231121T190000
DTEND;TZID=America/Chicago:20231121T210000
DTSTAMP:20260425T153214
CREATED:20230908T003443Z
LAST-MODIFIED:20230908T003450Z
UID:10000130-1700593200-1700600400@fellowshipofthephoenix.org
SUMMARY:Fellowship Hangout
DESCRIPTION:Join us for some virtual social time – no agenda or set topic\, just drop in for some conversation with fellow queer folk. \n\n\n\nZoom link: https://us06web.zoom.us/j/88965358565?pwd=OXhWbVhVMXBxdVdhWCtRNnRUZW44dz09
URL:https://fellowshipofthephoenix.org/event/fellowship-hangout-6/
LOCATION:WA
CATEGORIES:Social
ATTACH;FMTTYPE=image/png:https://fellowshipofthephoenix.org/wp-content/uploads/2023/03/hangout.png
ORGANIZER;CN="B.A. Davis-Howe":MAILTO:ba@fellowshipofthephoenix.org
END:VEVENT
END:VCALENDAR