BEGIN:VCALENDAR
VERSION:2.0
PRODID:-//Fellowship of the Phoenix - ECPv6.15.17.1//NONSGML v1.0//EN
CALSCALE:GREGORIAN
METHOD:PUBLISH
X-WR-CALNAME:Fellowship of the Phoenix
X-ORIGINAL-URL:https://fellowshipofthephoenix.org
X-WR-CALDESC:Events for Fellowship of the Phoenix
REFRESH-INTERVAL;VALUE=DURATION:PT1H
X-Robots-Tag:noindex
X-PUBLISHED-TTL:PT1H
BEGIN:VTIMEZONE
TZID:America/Chicago
BEGIN:DAYLIGHT
TZOFFSETFROM:-0600
TZOFFSETTO:-0500
TZNAME:CDT
DTSTART:20220313T080000
END:DAYLIGHT
BEGIN:STANDARD
TZOFFSETFROM:-0500
TZOFFSETTO:-0600
TZNAME:CST
DTSTART:20221106T070000
END:STANDARD
BEGIN:DAYLIGHT
TZOFFSETFROM:-0600
TZOFFSETTO:-0500
TZNAME:CDT
DTSTART:20230312T080000
END:DAYLIGHT
BEGIN:STANDARD
TZOFFSETFROM:-0500
TZOFFSETTO:-0600
TZNAME:CST
DTSTART:20231105T070000
END:STANDARD
BEGIN:DAYLIGHT
TZOFFSETFROM:-0600
TZOFFSETTO:-0500
TZNAME:CDT
DTSTART:20240310T080000
END:DAYLIGHT
BEGIN:STANDARD
TZOFFSETFROM:-0500
TZOFFSETTO:-0600
TZNAME:CST
DTSTART:20241103T070000
END:STANDARD
END:VTIMEZONE
BEGIN:VTIMEZONE
TZID:America/Los_Angeles
BEGIN:DAYLIGHT
TZOFFSETFROM:-0800
TZOFFSETTO:-0700
TZNAME:PDT
DTSTART:20220313T100000
END:DAYLIGHT
BEGIN:STANDARD
TZOFFSETFROM:-0700
TZOFFSETTO:-0800
TZNAME:PST
DTSTART:20221106T090000
END:STANDARD
BEGIN:DAYLIGHT
TZOFFSETFROM:-0800
TZOFFSETTO:-0700
TZNAME:PDT
DTSTART:20230312T100000
END:DAYLIGHT
BEGIN:STANDARD
TZOFFSETFROM:-0700
TZOFFSETTO:-0800
TZNAME:PST
DTSTART:20231105T090000
END:STANDARD
BEGIN:DAYLIGHT
TZOFFSETFROM:-0800
TZOFFSETTO:-0700
TZNAME:PDT
DTSTART:20240310T100000
END:DAYLIGHT
BEGIN:STANDARD
TZOFFSETFROM:-0700
TZOFFSETTO:-0800
TZNAME:PST
DTSTART:20241103T090000
END:STANDARD
END:VTIMEZONE
BEGIN:VEVENT
DTSTART;TZID=America/Chicago:20231211T190000
DTEND;TZID=America/Chicago:20231211T203000
DTSTAMP:20260425T140539
CREATED:20231210T224540Z
LAST-MODIFIED:20231210T224542Z
UID:10000132-1702321200-1702326600@fellowshipofthephoenix.org
SUMMARY:Chicago Temple Meeting
DESCRIPTION:Chicago Temple has a Zoom meeting at 7pm Central Time each month to plan our activities and handle any other business. Seekers are welcome to attend. \n\n\n\nPlanning online Winter Ritual continues at this meeting. \n\n\n\nZoom link: https://us06web.zoom.us/j/89277244172?pwd=VTBsY09DK2ZmWFJJbHpML1Z0elJiZz09
URL:https://fellowshipofthephoenix.org/event/chicago-temple-meeting-3/
LOCATION:WA
CATEGORIES:Business
ORGANIZER;CN="Chris Allaun":MAILTO:chris.allaun@fotpchicago.org
END:VEVENT
BEGIN:VEVENT
DTSTART;TZID=America/Chicago:20231219T190000
DTEND;TZID=America/Chicago:20231219T210000
DTSTAMP:20260425T140539
CREATED:20231210T225347Z
LAST-MODIFIED:20231210T225924Z
UID:10000133-1703012400-1703019600@fellowshipofthephoenix.org
SUMMARY:Fellowship Hangout
DESCRIPTION:Join us for some virtual social time – no agenda or set topic\, just drop in for some conversation with fellow queer pagans. Feel free to come and go as you wish. \n\n\n\nZoom link: https://us06web.zoom.us/j/87284323535?pwd=hq1PIT3h4rIejN6zooqKJmZ4LUBPP4.1
URL:https://fellowshipofthephoenix.org/event/fellowship-hangout-7/
LOCATION:WA
CATEGORIES:Social
ATTACH;FMTTYPE=image/png:https://fellowshipofthephoenix.org/wp-content/uploads/2023/03/hangout.png
ORGANIZER;CN="B.A. Davis-Howe":MAILTO:ba@fellowshipofthephoenix.org
END:VEVENT
BEGIN:VEVENT
DTSTART;TZID=America/Los_Angeles:20231230T173000
DTEND;TZID=America/Los_Angeles:20231230T173000
DTSTAMP:20260425T140539
CREATED:20230131T223018Z
LAST-MODIFIED:20240302T215517Z
UID:10000116-1703957400-1703957400@fellowshipofthephoenix.org
SUMMARY:Quietus - Seattle 2023
DESCRIPTION:Join us as we honor the Queer Divinity known as the Elder. The evening will be a potluck feast and ceremony rolled into one. Bring a favorite holiday dish to pass in celebration of our spirits and our community. Let’s light up the darkest part of the year together.\n\nThroughout the night there will be time to share your own reasons for joy\, to share stories or myth or song that is personally meaningful\, and to make offerings/petitions to our spirits and to the Elder.\n\nCome\, and allow us to introduce you to our queer deities\, spirits\, and spiritual landscape. Find community in a space devoted to queer power and spiritual exploration.
URL:https://fellowshipofthephoenix.org/event/quietus-seattle-2023-2/
LOCATION:University Friends Meeting – Seattle\, 4001 9th Ave NE\, Seattle\, WA\, 98105\, United States
CATEGORIES:Holiday Ritual
ATTACH;FMTTYPE=image/jpeg:https://fellowshipofthephoenix.org/wp-content/uploads/2021/11/19467740_1929583377330262_1996570026605211301_o.jpg
END:VEVENT
END:VCALENDAR