BEGIN:VCALENDAR
VERSION:2.0
PRODID:-//Fellowship of the Phoenix - ECPv6.15.17.1//NONSGML v1.0//EN
CALSCALE:GREGORIAN
METHOD:PUBLISH
X-ORIGINAL-URL:https://fellowshipofthephoenix.org
X-WR-CALDESC:Events for Fellowship of the Phoenix
REFRESH-INTERVAL;VALUE=DURATION:PT1H
X-Robots-Tag:noindex
X-PUBLISHED-TTL:PT1H
BEGIN:VTIMEZONE
TZID:America/Chicago
BEGIN:DAYLIGHT
TZOFFSETFROM:-0600
TZOFFSETTO:-0500
TZNAME:CDT
DTSTART:20230312T080000
END:DAYLIGHT
BEGIN:STANDARD
TZOFFSETFROM:-0500
TZOFFSETTO:-0600
TZNAME:CST
DTSTART:20231105T070000
END:STANDARD
BEGIN:DAYLIGHT
TZOFFSETFROM:-0600
TZOFFSETTO:-0500
TZNAME:CDT
DTSTART:20240310T080000
END:DAYLIGHT
BEGIN:STANDARD
TZOFFSETFROM:-0500
TZOFFSETTO:-0600
TZNAME:CST
DTSTART:20241103T070000
END:STANDARD
BEGIN:DAYLIGHT
TZOFFSETFROM:-0600
TZOFFSETTO:-0500
TZNAME:CDT
DTSTART:20250309T080000
END:DAYLIGHT
BEGIN:STANDARD
TZOFFSETFROM:-0500
TZOFFSETTO:-0600
TZNAME:CST
DTSTART:20251102T070000
END:STANDARD
END:VTIMEZONE
BEGIN:VEVENT
DTSTART;TZID=America/Chicago:20240106T183000
DTEND;TZID=America/Chicago:20240106T200000
DTSTAMP:20260425T124658
CREATED:20231218T011928Z
LAST-MODIFIED:20240107T013352Z
UID:10000134-1704565800-1704571200@fellowshipofthephoenix.org
SUMMARY:Winter Ritual - Chicago 2024
DESCRIPTION:The Chicago Temple of the Fellowship of the Phoenix invites you to our online Winter Ritual. (Quietus). Cozy up with us at home as we connect with each other online to celebrate The Elder and Queer magick. In this dark time of year we will journey into the dark and rekindle the flames of magick and healing. \n\n\n\nAll LGBTQIA+ 18+ are invited to join us! New folks are welcome! \n\n\n\nYou are welcome to join us in full ritual gear or simply pajamas! \n\n\n\nOptional things to have on hand:Three candles (or one if that’s what you have)A small offering for the Elder such as fruit\, water\, bread\, etc \n\n\n\nZoom link: https://us02web.zoom.us/j/85112671330?pwd=Y0hVWHVXTC9KdWYxeEZzL2dOVkFGdz09
URL:https://fellowshipofthephoenix.org/event/winter-ritual-chicago-2024/
LOCATION:WA
CATEGORIES:Holiday Ritual
ATTACH;FMTTYPE=image/jpeg:https://fellowshipofthephoenix.org/wp-content/uploads/2023/12/8-FotP-Quietus-background.jpg
ORGANIZER;CN="Chris Allaun":MAILTO:chris.allaun@fotpchicago.org
END:VEVENT
BEGIN:VEVENT
DTSTART;TZID=America/Chicago:20240108T190000
DTEND;TZID=America/Chicago:20240108T203000
DTSTAMP:20260425T124658
CREATED:20240107T190812Z
LAST-MODIFIED:20240107T191519Z
UID:10000135-1704740400-1704745800@fellowshipofthephoenix.org
SUMMARY:Chicago Temple Meeting
DESCRIPTION:Chicago Temple has a Zoom meeting at 7pm Central Time on the 2nd Monday each month to plan our activities and handle any other business. Seekers are welcome to attend. \n\n\n\nPlanning Hearthfire Ritual at this meeting. \n\n\n\nCopy and paste the Zoom link into your browser: https://us06web.zoom.us/j/89277244172?pwd=VTBsY09DK2ZmWFJJbHpML1Z0elJiZz09
URL:https://fellowshipofthephoenix.org/event/1780/
LOCATION:WA
CATEGORIES:Business
ORGANIZER;CN="Chris Allaun":MAILTO:chris.allaun@fotpchicago.org
END:VEVENT
BEGIN:VEVENT
DTSTART;TZID=America/Chicago:20240116T190000
DTEND;TZID=America/Chicago:20240116T210000
DTSTAMP:20260425T124658
CREATED:20240107T191217Z
LAST-MODIFIED:20240107T191540Z
UID:10000136-1705431600-1705438800@fellowshipofthephoenix.org
SUMMARY:Fellowship Hangout
DESCRIPTION:Join us on the 3rd Tuesday of each month for some virtual social time – no agenda or set topic\, just drop in for some conversation with fellow queer pagans. Feel free to come and go as you wish. \n\n\n\n \n\n\n\nCopy and paste the Zoom link into your browser: https://us06web.zoom.us/j/87284323535?pwd=hq1PIT3h4rIejN6zooqKJmZ4LUBPP4.1
URL:https://fellowshipofthephoenix.org/event/fellowship-hangout-8/
LOCATION:WA
CATEGORIES:Social
ATTACH;FMTTYPE=image/png:https://fellowshipofthephoenix.org/wp-content/uploads/2023/03/hangout.png
ORGANIZER;CN="B.A. Davis-Howe":MAILTO:ba@fellowshipofthephoenix.org
END:VEVENT
END:VCALENDAR