BEGIN:VCALENDAR
VERSION:2.0
PRODID:-//Fellowship of the Phoenix - ECPv6.15.17.1//NONSGML v1.0//EN
CALSCALE:GREGORIAN
METHOD:PUBLISH
X-ORIGINAL-URL:https://fellowshipofthephoenix.org
X-WR-CALDESC:Events for Fellowship of the Phoenix
REFRESH-INTERVAL;VALUE=DURATION:PT1H
X-Robots-Tag:noindex
X-PUBLISHED-TTL:PT1H
BEGIN:VTIMEZONE
TZID:America/Chicago
BEGIN:DAYLIGHT
TZOFFSETFROM:-0600
TZOFFSETTO:-0500
TZNAME:CDT
DTSTART:20230312T080000
END:DAYLIGHT
BEGIN:STANDARD
TZOFFSETFROM:-0500
TZOFFSETTO:-0600
TZNAME:CST
DTSTART:20231105T070000
END:STANDARD
BEGIN:DAYLIGHT
TZOFFSETFROM:-0600
TZOFFSETTO:-0500
TZNAME:CDT
DTSTART:20240310T080000
END:DAYLIGHT
BEGIN:STANDARD
TZOFFSETFROM:-0500
TZOFFSETTO:-0600
TZNAME:CST
DTSTART:20241103T070000
END:STANDARD
BEGIN:DAYLIGHT
TZOFFSETFROM:-0600
TZOFFSETTO:-0500
TZNAME:CDT
DTSTART:20250309T080000
END:DAYLIGHT
BEGIN:STANDARD
TZOFFSETFROM:-0500
TZOFFSETTO:-0600
TZNAME:CST
DTSTART:20251102T070000
END:STANDARD
END:VTIMEZONE
BEGIN:VTIMEZONE
TZID:America/Los_Angeles
BEGIN:DAYLIGHT
TZOFFSETFROM:-0800
TZOFFSETTO:-0700
TZNAME:PDT
DTSTART:20230312T100000
END:DAYLIGHT
BEGIN:STANDARD
TZOFFSETFROM:-0700
TZOFFSETTO:-0800
TZNAME:PST
DTSTART:20231105T090000
END:STANDARD
BEGIN:DAYLIGHT
TZOFFSETFROM:-0800
TZOFFSETTO:-0700
TZNAME:PDT
DTSTART:20240310T100000
END:DAYLIGHT
BEGIN:STANDARD
TZOFFSETFROM:-0700
TZOFFSETTO:-0800
TZNAME:PST
DTSTART:20241103T090000
END:STANDARD
BEGIN:DAYLIGHT
TZOFFSETFROM:-0800
TZOFFSETTO:-0700
TZNAME:PDT
DTSTART:20250309T100000
END:DAYLIGHT
BEGIN:STANDARD
TZOFFSETFROM:-0700
TZOFFSETTO:-0800
TZNAME:PST
DTSTART:20251102T090000
END:STANDARD
END:VTIMEZONE
BEGIN:VEVENT
DTSTART;TZID=America/Chicago:20240309T183000
DTEND;TZID=America/Chicago:20240309T200000
DTSTAMP:20260425T100231
CREATED:20240130T003701Z
LAST-MODIFIED:20240130T003837Z
UID:10000140-1710009000-1710014400@fellowshipofthephoenix.org
SUMMARY:Justice and Healing for Trans Community Ritual - Chicago
DESCRIPTION:
URL:https://fellowshipofthephoenix.org/event/justice-and-healing-for-trans-community-ritual/
LOCATION:Life Force Arts Center\, 1609 W Belmont Ave\, Chicago\, IL\, 60657\, United States
CATEGORIES:Holiday Ritual
ATTACH;FMTTYPE=image/png:https://fellowshipofthephoenix.org/wp-content/uploads/2023/08/trans-pride-TerraStars-banner-1.png
ORGANIZER;CN="Chris Allaun":MAILTO:chris.allaun@fotpchicago.org
END:VEVENT
BEGIN:VEVENT
DTSTART;TZID=America/Chicago:20240311T190000
DTEND;TZID=America/Chicago:20240311T203000
DTSTAMP:20260425T100231
CREATED:20240202T010730Z
LAST-MODIFIED:20240202T010732Z
UID:10000148-1710183600-1710189000@fellowshipofthephoenix.org
SUMMARY:Chicago Temple Meeting
DESCRIPTION:Chicago Temple has a Zoom meeting at 7pm Central Time on the 2nd Monday each month to plan our activities and handle any other business. Seekers are welcome to attend. \n\n\n\nPlanning for Spring Ritual at this meeting. \n\n\n\nCopy and paste the Zoom link into your browser:https://us06web.zoom.us/j/89277244172?pwd=VTBsY09DK2ZmWFJJbHpML1Z0elJiZz09
URL:https://fellowshipofthephoenix.org/event/chicago-temple-meeting-5/
LOCATION:WA
CATEGORIES:Business
ORGANIZER;CN="Chris Allaun":MAILTO:chris.allaun@fotpchicago.org
END:VEVENT
BEGIN:VEVENT
DTSTART;TZID=America/Chicago:20240319T190000
DTEND;TZID=America/Chicago:20240319T210000
DTSTAMP:20260425T100231
CREATED:20240130T013539Z
LAST-MODIFIED:20240130T013541Z
UID:10000147-1710874800-1710882000@fellowshipofthephoenix.org
SUMMARY:Fellowship Hangout
DESCRIPTION:Join us on the 3rd Tuesday of each month for some virtual social time – no agenda or set topic\, just drop in for some conversation with fellow queer pagans. Feel free to come and go as you wish. \n\n\n\nCopy and paste the Zoom link into your browser:https://us06web.zoom.us/j/87284323535?pwd=hq1PIT3h4rIejN6zooqKJmZ4LUBPP4.1
URL:https://fellowshipofthephoenix.org/event/fellowship-hangout-9/
LOCATION:WA
CATEGORIES:Social
ATTACH;FMTTYPE=image/png:https://fellowshipofthephoenix.org/wp-content/uploads/2023/03/hangout.png
ORGANIZER;CN="B.A. Davis-Howe":MAILTO:ba@fellowshipofthephoenix.org
END:VEVENT
BEGIN:VEVENT
DTSTART;TZID=America/Los_Angeles:20240330T173000
DTEND;TZID=America/Los_Angeles:20240330T193000
DTSTAMP:20260425T100231
CREATED:20240302T215254Z
LAST-MODIFIED:20240309T005348Z
UID:10000155-1711819800-1711827000@fellowshipofthephoenix.org
SUMMARY:Quintessence - Seattle 2024
DESCRIPTION:Join us as we honor the our patron spirit\, the Phoenix\, and also as we celebrate the fifth anniversary of the Temple! \n\n\n\nThrough the course of our celebration we will assert our place in this world as Queer people\, magical and fierce and strong. We will meet the Divine and receive Their gift. We will journey through the Labyrinth together and embrace that which lies in its center. \n\n\n\nCome\, and allow us to introduce you to our queer deities\, spirits\, and spiritual landscape. Find community in a space devoted to queer power and spiritual exploration. \n\n\n\nOur events are open to all queer adults.
URL:https://fellowshipofthephoenix.org/event/quintessence-2024-seattle/
LOCATION:WA
CATEGORIES:Holiday Ritual
ATTACH;FMTTYPE=image/jpeg:https://fellowshipofthephoenix.org/wp-content/uploads/2021/11/quintessence-banner.jpg
END:VEVENT
END:VCALENDAR