BEGIN:VCALENDAR
VERSION:2.0
PRODID:-//Fellowship of the Phoenix - ECPv6.15.17.1//NONSGML v1.0//EN
CALSCALE:GREGORIAN
METHOD:PUBLISH
X-WR-CALNAME:Fellowship of the Phoenix
X-ORIGINAL-URL:https://fellowshipofthephoenix.org
X-WR-CALDESC:Events for Fellowship of the Phoenix
REFRESH-INTERVAL;VALUE=DURATION:PT1H
X-Robots-Tag:noindex
X-PUBLISHED-TTL:PT1H
BEGIN:VTIMEZONE
TZID:America/Los_Angeles
BEGIN:DAYLIGHT
TZOFFSETFROM:-0800
TZOFFSETTO:-0700
TZNAME:PDT
DTSTART:20240310T100000
END:DAYLIGHT
BEGIN:STANDARD
TZOFFSETFROM:-0700
TZOFFSETTO:-0800
TZNAME:PST
DTSTART:20241103T090000
END:STANDARD
BEGIN:DAYLIGHT
TZOFFSETFROM:-0800
TZOFFSETTO:-0700
TZNAME:PDT
DTSTART:20250309T100000
END:DAYLIGHT
BEGIN:STANDARD
TZOFFSETFROM:-0700
TZOFFSETTO:-0800
TZNAME:PST
DTSTART:20251102T090000
END:STANDARD
BEGIN:DAYLIGHT
TZOFFSETFROM:-0800
TZOFFSETTO:-0700
TZNAME:PDT
DTSTART:20260308T100000
END:DAYLIGHT
BEGIN:STANDARD
TZOFFSETFROM:-0700
TZOFFSETTO:-0800
TZNAME:PST
DTSTART:20261101T090000
END:STANDARD
END:VTIMEZONE
BEGIN:VTIMEZONE
TZID:America/Chicago
BEGIN:DAYLIGHT
TZOFFSETFROM:-0600
TZOFFSETTO:-0500
TZNAME:CDT
DTSTART:20240310T080000
END:DAYLIGHT
BEGIN:STANDARD
TZOFFSETFROM:-0500
TZOFFSETTO:-0600
TZNAME:CST
DTSTART:20241103T070000
END:STANDARD
BEGIN:DAYLIGHT
TZOFFSETFROM:-0600
TZOFFSETTO:-0500
TZNAME:CDT
DTSTART:20250309T080000
END:DAYLIGHT
BEGIN:STANDARD
TZOFFSETFROM:-0500
TZOFFSETTO:-0600
TZNAME:CST
DTSTART:20251102T070000
END:STANDARD
BEGIN:DAYLIGHT
TZOFFSETFROM:-0600
TZOFFSETTO:-0500
TZNAME:CDT
DTSTART:20260308T080000
END:DAYLIGHT
BEGIN:STANDARD
TZOFFSETFROM:-0500
TZOFFSETTO:-0600
TZNAME:CST
DTSTART:20261101T070000
END:STANDARD
END:VTIMEZONE
BEGIN:VEVENT
DTSTART;TZID=America/Los_Angeles:20250104T173000
DTEND;TZID=America/Los_Angeles:20250104T193000
DTSTAMP:20260422T221220
CREATED:20240302T230842Z
LAST-MODIFIED:20241205T081812Z
UID:10000172-1736011800-1736019000@fellowshipofthephoenix.org
SUMMARY:Quietus - Seattle 2024
DESCRIPTION:Join us as we honor the Queer Divinity known as the Elder. The evening will be a potluck feast and ceremony rolled into one. Bring a favorite holiday dish to pass in celebration of our spirits and our community. Let’s light up the darkest part of the year together. \n\n\n\nThroughout the night there will be time to share your own reasons for joy\, to share stories or myth or song that is personally meaningful\, and to make offerings/petitions to our spirits and to the Elder. \n\n\n\nCome\, and allow us to introduce you to our queer deities\, spirits\, and spiritual landscape. Find community in a space devoted to queer power and spiritual exploration. \n\n\n\nQuietus is a free neopagan ritual open to queer adults of all genders. Attendees are encouraged to wear masks\, and we ask that anyone who feels sick or who thinks they might be sick stay at home. \n\n\n\nRITUAL BASICSEntry will begin around 5pm\, and no one will be admitted after the ritual starts. Ritual will begin at 5:30pm and last about 90 minutes. We will briefly smoke cleanse attendees before entering temple space\, and there will be small candles and incense lit on our altar. If it does not conflict with accessibility needs\, we will have low lighting during the event. \n\n\n\nSeating will be provided\, and attendees are invited to sit\, walk\, dance\, or otherwise engage as you feel comfortable. \n\n\n\nAttendees must wear clothing at the event (no sky-clad\, please!) and we ask that substances remain outside the temple space. \n\n\n\nTHE SPACEShadowDance will occur in the University Friends Meetinghouse in the University District. The entrance is a gate on the 9th Ave NE side\, and someone will be watching the gate to let folks in.If you are driving\, you can find parking in a small lot outside the Meetinghouse or on 9th Ave NE. If you are biking\, you can lock your bike at a rack outside the space. \n\n\n\nIf you are taking public transit\, you can reach the Meetinghouse from the University Bridge & NE 40th St stop (49 or 70 bus) or the NE 42nd St & 8th Ave NE stop (31 or 32 bus).
URL:https://fellowshipofthephoenix.org/event/quietus-seattle-2024/
LOCATION:WA
CATEGORIES:Holiday Ritual
ATTACH;FMTTYPE=image/jpeg:https://fellowshipofthephoenix.org/wp-content/uploads/2023/12/8-FotP-Quietus-background.jpg
END:VEVENT
BEGIN:VEVENT
DTSTART;TZID=America/Chicago:20250109T190000
DTEND;TZID=America/Chicago:20250109T203000
DTSTAMP:20260422T221220
CREATED:20250108T161759Z
LAST-MODIFIED:20250108T161801Z
UID:10000186-1736449200-1736454600@fellowshipofthephoenix.org
SUMMARY:Chicago Temple Meeting
DESCRIPTION:Chicago Temple has a Zoom meeting at 7pm Central Time (on the 2nd Thursday) each month to plan our activities and handle any other business. Seekers are welcome to attend. \n\n\n\nPlanning for online Hearthfire Ritual at this meeting. \n\n\n\nCopy and paste the Zoom link into your browser:https://us06web.zoom.us/j/89277244172?pwd=VTBsY09DK2ZmWFJJbHpML1Z0elJiZz09
URL:https://fellowshipofthephoenix.org/event/chicago-temple-meeting-13/
LOCATION:WA
CATEGORIES:Business
ORGANIZER;CN="Chris Allaun":MAILTO:chris.allaun@fotpchicago.org
END:VEVENT
BEGIN:VEVENT
DTSTART;TZID=America/Chicago:20250111T190000
DTEND;TZID=America/Chicago:20250111T203000
DTSTAMP:20260422T221220
CREATED:20250108T162609Z
LAST-MODIFIED:20250108T162632Z
UID:10000188-1736622000-1736627400@fellowshipofthephoenix.org
SUMMARY:Ritual of Winter - Chicago
DESCRIPTION:We are in the darkest time of year. In Chicago this is the time of cold temperatures and snow. So\, we come together in community to celebrate the blessings of winter and the warmth of the fires of transformation. We invite you to join us in celebration of The Elder and Winter season. \n\n\n\nWe will begin promptly at 7pm \n\n\n\n \n\n\n\nLGBTQIA+ 18+
URL:https://fellowshipofthephoenix.org/event/ritual-of-winter/
LOCATION:Life Force Arts Center\, 1609 W Belmont Ave\, Chicago\, IL\, 60657\, United States
CATEGORIES:Holiday Ritual
ATTACH;FMTTYPE=image/jpeg:https://fellowshipofthephoenix.org/wp-content/uploads/2023/12/8-FotP-Quietus-background.jpg
ORGANIZER;CN="Chris Allaun":MAILTO:chris.allaun@fotpchicago.org
END:VEVENT
BEGIN:VEVENT
DTSTART;TZID=America/Chicago:20250121T190000
DTEND;TZID=America/Chicago:20250121T210000
DTSTAMP:20260422T221220
CREATED:20250108T162951Z
LAST-MODIFIED:20250108T162952Z
UID:10000189-1737486000-1737493200@fellowshipofthephoenix.org
SUMMARY:Fellowship Hangout
DESCRIPTION:Join us on the 3rd Tuesday of each month for some virtual social time – no agenda or set topic\, just drop in for some conversation with fellow queer pagans. Feel free to come and go as you wish. \n\n\n\nCopy and paste the Zoom link into your browser:https://us06web.zoom.us/j/87284323535?pwd=hq1PIT3h4rIejN6zooqKJmZ4LUBPP4.1
URL:https://fellowshipofthephoenix.org/event/fellowship-hangout-19/
LOCATION:WA
CATEGORIES:Social
ATTACH;FMTTYPE=image/png:https://fellowshipofthephoenix.org/wp-content/uploads/2023/03/hangout.png
ORGANIZER;CN="B.A. Davis-Howe":MAILTO:ba@fellowshipofthephoenix.org
END:VEVENT
END:VCALENDAR