BEGIN:VCALENDAR
VERSION:2.0
PRODID:-//Fellowship of the Phoenix - ECPv6.15.17.1//NONSGML v1.0//EN
CALSCALE:GREGORIAN
METHOD:PUBLISH
X-ORIGINAL-URL:https://fellowshipofthephoenix.org
X-WR-CALDESC:Events for Fellowship of the Phoenix
REFRESH-INTERVAL;VALUE=DURATION:PT1H
X-Robots-Tag:noindex
X-PUBLISHED-TTL:PT1H
BEGIN:VTIMEZONE
TZID:America/Chicago
BEGIN:DAYLIGHT
TZOFFSETFROM:-0600
TZOFFSETTO:-0500
TZNAME:CDT
DTSTART:20240310T080000
END:DAYLIGHT
BEGIN:STANDARD
TZOFFSETFROM:-0500
TZOFFSETTO:-0600
TZNAME:CST
DTSTART:20241103T070000
END:STANDARD
BEGIN:DAYLIGHT
TZOFFSETFROM:-0600
TZOFFSETTO:-0500
TZNAME:CDT
DTSTART:20250309T080000
END:DAYLIGHT
BEGIN:STANDARD
TZOFFSETFROM:-0500
TZOFFSETTO:-0600
TZNAME:CST
DTSTART:20251102T070000
END:STANDARD
BEGIN:DAYLIGHT
TZOFFSETFROM:-0600
TZOFFSETTO:-0500
TZNAME:CDT
DTSTART:20260308T080000
END:DAYLIGHT
BEGIN:STANDARD
TZOFFSETFROM:-0500
TZOFFSETTO:-0600
TZNAME:CST
DTSTART:20261101T070000
END:STANDARD
END:VTIMEZONE
BEGIN:VTIMEZONE
TZID:America/Los_Angeles
BEGIN:DAYLIGHT
TZOFFSETFROM:-0800
TZOFFSETTO:-0700
TZNAME:PDT
DTSTART:20240310T100000
END:DAYLIGHT
BEGIN:STANDARD
TZOFFSETFROM:-0700
TZOFFSETTO:-0800
TZNAME:PST
DTSTART:20241103T090000
END:STANDARD
BEGIN:DAYLIGHT
TZOFFSETFROM:-0800
TZOFFSETTO:-0700
TZNAME:PDT
DTSTART:20250309T100000
END:DAYLIGHT
BEGIN:STANDARD
TZOFFSETFROM:-0700
TZOFFSETTO:-0800
TZNAME:PST
DTSTART:20251102T090000
END:STANDARD
BEGIN:DAYLIGHT
TZOFFSETFROM:-0800
TZOFFSETTO:-0700
TZNAME:PDT
DTSTART:20260308T100000
END:DAYLIGHT
BEGIN:STANDARD
TZOFFSETFROM:-0700
TZOFFSETTO:-0800
TZNAME:PST
DTSTART:20261101T090000
END:STANDARD
END:VTIMEZONE
BEGIN:VEVENT
DTSTART;TZID=America/Chicago:20250208T190000
DTEND;TZID=America/Chicago:20250208T203000
DTSTAMP:20260422T205909
CREATED:20250108T164807Z
LAST-MODIFIED:20250114T234628Z
UID:10000190-1739041200-1739046600@fellowshipofthephoenix.org
SUMMARY:Hearthfire Ritual - Online!
DESCRIPTION:Share in hearthfire magic with fellow queerfolk online. We will celebrate the gradual turning toward spring by blessing our own homes. Call it spiritual spring cleaning!  \n\n\n\nWe encourage everyone to have (1) some symbol of your hearthfire–a candle (LED counts) or something similar–and (2) a small bowl of water. If you aren’t able to have those on hand\, we’ll talk you through doing it energetically. \n\n\n\nPeople of all queer identities\, including questioning\, are welcome! \n\n\n\nHosted by the Chicago Temple of the Fellowship of the Phoenix \n\n\n\n \n\n\n\nCopy and paste the Zoom link into your browser:https://us06web.zoom.us/j/85696297470?pwd=5b6Uub9hWMuANY1XgURchiye44g0N5.1
URL:https://fellowshipofthephoenix.org/event/hearthfire-ritual-online/
LOCATION:WA
CATEGORIES:Holiday Ritual
ATTACH;FMTTYPE=image/jpeg:https://fellowshipofthephoenix.org/wp-content/uploads/2021/11/spiritsong-banner.jpg
ORGANIZER;CN="B.A. Davis-Howe":MAILTO:ba@fellowshipofthephoenix.org
END:VEVENT
BEGIN:VEVENT
DTSTART;TZID=America/Chicago:20250213T180000
DTEND;TZID=America/Chicago:20250213T193000
DTSTAMP:20260422T205909
CREATED:20250108T162132Z
LAST-MODIFIED:20250126T200523Z
UID:10000187-1739469600-1739475000@fellowshipofthephoenix.org
SUMMARY:Chicago Temple Meeting
DESCRIPTION:Note time change: Meeting starts at 6 pm! \n\n\n\nChicago Temple has a Zoom meeting each month to plan our activities and handle any other business. Seekers are welcome to attend. \n\n\n\nElections for new Chicago Council at this meeting. \n\n\n\nCopy and paste the Zoom link into your browser:https://us06web.zoom.us/j/89277244172?pwd=VTBsY09DK2ZmWFJJbHpML1Z0elJiZz09
URL:https://fellowshipofthephoenix.org/event/chicago-temple-meeting-14/
LOCATION:WA
CATEGORIES:Business
ATTACH;FMTTYPE=image/png:https://fellowshipofthephoenix.org/wp-content/uploads/2021/12/chicago-temple-contact-edited.png
END:VEVENT
BEGIN:VEVENT
DTSTART;TZID=America/Los_Angeles:20250215T173000
DTEND;TZID=America/Los_Angeles:20250215T200000
DTSTAMP:20260422T205909
CREATED:20250120T004107Z
LAST-MODIFIED:20250120T222707Z
UID:10000192-1739640600-1739649600@fellowshipofthephoenix.org
SUMMARY:SpiritSong 2025 - Seattle
DESCRIPTION:SpiritSong is the Fellowship’s first ritual of the new year\, and it traditionally honors the Divine Youth and energies of Wonder. In Seattle\, this usually means sharing a playful vibe\, arts and crafts\, and lots of laughter as we anticipate the coming of spring.
URL:https://fellowshipofthephoenix.org/event/spiritsong-2025-seattle/
LOCATION:University Friends Meeting – Seattle\, 4001 9th Ave NE\, Seattle\, WA\, 98105\, United States
CATEGORIES:Holiday Ritual
ATTACH;FMTTYPE=image/jpeg:https://fellowshipofthephoenix.org/wp-content/uploads/2021/11/spiritsong-banner.jpg
END:VEVENT
BEGIN:VEVENT
DTSTART;TZID=America/Chicago:20250218T190000
DTEND;TZID=America/Chicago:20250218T210000
DTSTAMP:20260422T205909
CREATED:20250108T164930Z
LAST-MODIFIED:20250108T165254Z
UID:10000191-1739905200-1739912400@fellowshipofthephoenix.org
SUMMARY:Fellowship Hangout
DESCRIPTION:Join us on the 3rd Tuesday of each month for some virtual social time – no agenda or set topic\, just drop in for some conversation with fellow queer pagans. Feel free to come and go as you wish. \n\n\n\nCopy and paste the Zoom link into your browser:https://us06web.zoom.us/j/87284323535?pwd=hq1PIT3h4rIejN6zooqKJmZ4LUBPP4.1
URL:https://fellowshipofthephoenix.org/event/fellowship-hangout-20/
LOCATION:WA
CATEGORIES:Social
ATTACH;FMTTYPE=image/png:https://fellowshipofthephoenix.org/wp-content/uploads/2023/03/hangout.png
ORGANIZER;CN="B.A. Davis-Howe":MAILTO:ba@fellowshipofthephoenix.org
END:VEVENT
END:VCALENDAR