BEGIN:VCALENDAR
VERSION:2.0
PRODID:-//Fellowship of the Phoenix - ECPv6.15.17.1//NONSGML v1.0//EN
CALSCALE:GREGORIAN
METHOD:PUBLISH
X-ORIGINAL-URL:https://fellowshipofthephoenix.org
X-WR-CALDESC:Events for Fellowship of the Phoenix
REFRESH-INTERVAL;VALUE=DURATION:PT1H
X-Robots-Tag:noindex
X-PUBLISHED-TTL:PT1H
BEGIN:VTIMEZONE
TZID:America/Chicago
BEGIN:DAYLIGHT
TZOFFSETFROM:-0600
TZOFFSETTO:-0500
TZNAME:CDT
DTSTART:20240310T080000
END:DAYLIGHT
BEGIN:STANDARD
TZOFFSETFROM:-0500
TZOFFSETTO:-0600
TZNAME:CST
DTSTART:20241103T070000
END:STANDARD
BEGIN:DAYLIGHT
TZOFFSETFROM:-0600
TZOFFSETTO:-0500
TZNAME:CDT
DTSTART:20250309T080000
END:DAYLIGHT
BEGIN:STANDARD
TZOFFSETFROM:-0500
TZOFFSETTO:-0600
TZNAME:CST
DTSTART:20251102T070000
END:STANDARD
BEGIN:DAYLIGHT
TZOFFSETFROM:-0600
TZOFFSETTO:-0500
TZNAME:CDT
DTSTART:20260308T080000
END:DAYLIGHT
BEGIN:STANDARD
TZOFFSETFROM:-0500
TZOFFSETTO:-0600
TZNAME:CST
DTSTART:20261101T070000
END:STANDARD
END:VTIMEZONE
BEGIN:VTIMEZONE
TZID:America/Los_Angeles
BEGIN:DAYLIGHT
TZOFFSETFROM:-0800
TZOFFSETTO:-0700
TZNAME:PDT
DTSTART:20240310T100000
END:DAYLIGHT
BEGIN:STANDARD
TZOFFSETFROM:-0700
TZOFFSETTO:-0800
TZNAME:PST
DTSTART:20241103T090000
END:STANDARD
BEGIN:DAYLIGHT
TZOFFSETFROM:-0800
TZOFFSETTO:-0700
TZNAME:PDT
DTSTART:20250309T100000
END:DAYLIGHT
BEGIN:STANDARD
TZOFFSETFROM:-0700
TZOFFSETTO:-0800
TZNAME:PST
DTSTART:20251102T090000
END:STANDARD
BEGIN:DAYLIGHT
TZOFFSETFROM:-0800
TZOFFSETTO:-0700
TZNAME:PDT
DTSTART:20260308T100000
END:DAYLIGHT
BEGIN:STANDARD
TZOFFSETFROM:-0700
TZOFFSETTO:-0800
TZNAME:PST
DTSTART:20261101T090000
END:STANDARD
END:VTIMEZONE
BEGIN:VEVENT
DTSTART;TZID=America/Chicago:20250612T190000
DTEND;TZID=America/Chicago:20250612T203000
DTSTAMP:20260422T152557
CREATED:20250511T231345Z
LAST-MODIFIED:20250511T232505Z
UID:10000223-1749754800-1749760200@fellowshipofthephoenix.org
SUMMARY:Chicago Temple Meeting
DESCRIPTION:Chicago Temple has a Zoom meeting quarterly. Seekers are welcome to attend. \n\n\n\nPlanning for Summer Ritual at this meeting. \n\n\n\nCopy and paste the Zoom link into your browser:https://us06web.zoom.us/j/89277244172?pwd=VTBsY09DK2ZmWFJJbHpML1Z0elJiZz09
URL:https://fellowshipofthephoenix.org/event/chicago-temple-meeting-15/
LOCATION:WA
CATEGORIES:Business
ATTACH;FMTTYPE=image/png:https://fellowshipofthephoenix.org/wp-content/uploads/2021/12/chicago-temple-contact-edited.png
ORGANIZER;CN="Chris Allaun":MAILTO:chris.allaun@fotpchicago.org
END:VEVENT
BEGIN:VEVENT
DTSTART;TZID=America/Chicago:20250617T190000
DTEND;TZID=America/Chicago:20250617T210000
DTSTAMP:20260422T152557
CREATED:20250120T233951Z
LAST-MODIFIED:20250120T233953Z
UID:10000207-1750186800-1750194000@fellowshipofthephoenix.org
SUMMARY:Fellowship Hangout
DESCRIPTION:Join us on the 3rd Tuesday of each month for some virtual social time – no agenda or set topic\, just drop in for some conversation with fellow queer pagans. Feel free to come and go as you wish. \n\n\n\nCopy and paste the Zoom link into your browser:https://us06web.zoom.us/j/87284323535?pwd=hq1PIT3h4rIejN6zooqKJmZ4LUBPP4.1
URL:https://fellowshipofthephoenix.org/event/fellowship-hangout-24/
LOCATION:WA
CATEGORIES:Social
ATTACH;FMTTYPE=image/png:https://fellowshipofthephoenix.org/wp-content/uploads/2023/03/hangout.png
ORGANIZER;CN="B.A. Davis-Howe":MAILTO:ba@fellowshipofthephoenix.org
END:VEVENT
BEGIN:VEVENT
DTSTART;TZID=America/Los_Angeles:20250628T173000
DTEND;TZID=America/Los_Angeles:20250628T200000
DTSTAMP:20260422T152557
CREATED:20250120T010744Z
LAST-MODIFIED:20250120T022239Z
UID:10000195-1751131800-1751140800@fellowshipofthephoenix.org
SUMMARY:Pride Rite - Seattle
DESCRIPTION:Join us in celebrating Queer joy during the season of Pride\, with a novel ritual celebrating the queer fire that burns in us all!
URL:https://fellowshipofthephoenix.org/event/pride-rite-seattle/
LOCATION:University Friends Meeting – Seattle\, 4001 9th Ave NE\, Seattle\, WA\, 98105\, United States
CATEGORIES:Holiday Ritual
ATTACH;FMTTYPE=image/png:https://fellowshipofthephoenix.org/wp-content/uploads/2023/03/Queer-Pride-TerraStars.png
END:VEVENT
END:VCALENDAR