BEGIN:VCALENDAR
VERSION:2.0
PRODID:-//Fellowship of the Phoenix - ECPv6.15.17.1//NONSGML v1.0//EN
CALSCALE:GREGORIAN
METHOD:PUBLISH
X-ORIGINAL-URL:https://fellowshipofthephoenix.org
X-WR-CALDESC:Events for Fellowship of the Phoenix
REFRESH-INTERVAL;VALUE=DURATION:PT1H
X-Robots-Tag:noindex
X-PUBLISHED-TTL:PT1H
BEGIN:VTIMEZONE
TZID:America/Chicago
BEGIN:DAYLIGHT
TZOFFSETFROM:-0600
TZOFFSETTO:-0500
TZNAME:CDT
DTSTART:20250309T080000
END:DAYLIGHT
BEGIN:STANDARD
TZOFFSETFROM:-0500
TZOFFSETTO:-0600
TZNAME:CST
DTSTART:20251102T070000
END:STANDARD
BEGIN:DAYLIGHT
TZOFFSETFROM:-0600
TZOFFSETTO:-0500
TZNAME:CDT
DTSTART:20260308T080000
END:DAYLIGHT
BEGIN:STANDARD
TZOFFSETFROM:-0500
TZOFFSETTO:-0600
TZNAME:CST
DTSTART:20261101T070000
END:STANDARD
BEGIN:DAYLIGHT
TZOFFSETFROM:-0600
TZOFFSETTO:-0500
TZNAME:CDT
DTSTART:20270314T080000
END:DAYLIGHT
BEGIN:STANDARD
TZOFFSETFROM:-0500
TZOFFSETTO:-0600
TZNAME:CST
DTSTART:20271107T070000
END:STANDARD
END:VTIMEZONE
BEGIN:VTIMEZONE
TZID:America/Los_Angeles
BEGIN:DAYLIGHT
TZOFFSETFROM:-0800
TZOFFSETTO:-0700
TZNAME:PDT
DTSTART:20250309T100000
END:DAYLIGHT
BEGIN:STANDARD
TZOFFSETFROM:-0700
TZOFFSETTO:-0800
TZNAME:PST
DTSTART:20251102T090000
END:STANDARD
BEGIN:DAYLIGHT
TZOFFSETFROM:-0800
TZOFFSETTO:-0700
TZNAME:PDT
DTSTART:20260308T100000
END:DAYLIGHT
BEGIN:STANDARD
TZOFFSETFROM:-0700
TZOFFSETTO:-0800
TZNAME:PST
DTSTART:20261101T090000
END:STANDARD
BEGIN:DAYLIGHT
TZOFFSETFROM:-0800
TZOFFSETTO:-0700
TZNAME:PDT
DTSTART:20270314T100000
END:DAYLIGHT
BEGIN:STANDARD
TZOFFSETFROM:-0700
TZOFFSETTO:-0800
TZNAME:PST
DTSTART:20271107T090000
END:STANDARD
END:VTIMEZONE
BEGIN:VEVENT
DTSTART;TZID=America/Chicago:20260312T190000
DTEND;TZID=America/Chicago:20260312T200000
DTSTAMP:20260420T042354
CREATED:20260312T134615Z
LAST-MODIFIED:20260312T134648Z
UID:10000250-1773342000-1773345600@fellowshipofthephoenix.org
SUMMARY:Chicago Temple Quarterly Meeting
DESCRIPTION:This is our quarterly temple-wide meeting.  \n\n\n\nElder Council is having elections for seven roles (all but Ombudsman) as their terms are up. We will hold nominations for up to seven people at this meeting. All members in good standing of the Chicago Temple are eligible. Those nominees will attend the next Elder Council meeting for the elections\, Sat May 2\, 3pm CT. \n\n\n\nCopy and paste the Zoom link into your browser: \n\n\n\n\nhttps://us06web.zoom.us/j/83930333356?pwd=5SbCMUi3MD1aYrYbZAuEwmod5ZYeFb.1
URL:https://fellowshipofthephoenix.org/event/chicago-temple-quarterly-meeting/
LOCATION:WA
CATEGORIES:Business
ATTACH;FMTTYPE=image/png:https://fellowshipofthephoenix.org/wp-content/uploads/2021/12/chicago-temple-contact-edited.png
ORGANIZER;CN="B.A. Davis-Howe":MAILTO:ba@fellowshipofthephoenix.org
END:VEVENT
BEGIN:VEVENT
DTSTART;TZID=America/Chicago:20260317T190000
DTEND;TZID=America/Chicago:20260317T210000
DTSTAMP:20260420T042354
CREATED:20251226T202609Z
LAST-MODIFIED:20251226T202611Z
UID:10000237-1773774000-1773781200@fellowshipofthephoenix.org
SUMMARY:Fellowship Hangout
DESCRIPTION:Join us on the 3rd Tuesday of each month for some virtual social time – no agenda or set topic\, just drop in for some conversation with fellow queer pagans. Feel free to come and go as you wish. \n\n\n\nCopy and paste the Zoom link into your browser:https://us06web.zoom.us/j/83162893486?pwd=Nyybz7NWCpWixpOZ38xIOtWD2fVpHv.1
URL:https://fellowshipofthephoenix.org/event/fellowship-hangout-33/
LOCATION:WA
CATEGORIES:Social
ATTACH;FMTTYPE=image/png:https://fellowshipofthephoenix.org/wp-content/uploads/2023/03/hangout.png
ORGANIZER;CN="B.A. Davis-Howe":MAILTO:ba@fellowshipofthephoenix.org
END:VEVENT
BEGIN:VEVENT
DTSTART;TZID=America/Los_Angeles:20260328T173000
DTEND;TZID=America/Los_Angeles:20260328T200000
DTSTAMP:20260420T042354
CREATED:20260222T222955Z
LAST-MODIFIED:20260323T021712Z
UID:10000248-1774719000-1774728000@fellowshipofthephoenix.org
SUMMARY:Quintessence Seattle - 2026
DESCRIPTION:
URL:https://fellowshipofthephoenix.org/event/quintessence-seattle-2026/
LOCATION:University Friends Meeting – Seattle\, 4001 9th Ave NE\, Seattle\, WA\, 98105\, United States
CATEGORIES:Holiday Ritual
ATTACH;FMTTYPE=image/jpeg:https://fellowshipofthephoenix.org/wp-content/uploads/2021/11/quintessence-banner.jpg
END:VEVENT
END:VCALENDAR