BEGIN:VCALENDAR
VERSION:2.0
PRODID:-//Fellowship of the Phoenix - ECPv6.15.17.1//NONSGML v1.0//EN
CALSCALE:GREGORIAN
METHOD:PUBLISH
X-ORIGINAL-URL:https://fellowshipofthephoenix.org
X-WR-CALDESC:Events for Fellowship of the Phoenix
REFRESH-INTERVAL;VALUE=DURATION:PT1H
X-Robots-Tag:noindex
X-PUBLISHED-TTL:PT1H
BEGIN:VTIMEZONE
TZID:America/Chicago
BEGIN:DAYLIGHT
TZOFFSETFROM:-0600
TZOFFSETTO:-0500
TZNAME:CDT
DTSTART:20250309T080000
END:DAYLIGHT
BEGIN:STANDARD
TZOFFSETFROM:-0500
TZOFFSETTO:-0600
TZNAME:CST
DTSTART:20251102T070000
END:STANDARD
BEGIN:DAYLIGHT
TZOFFSETFROM:-0600
TZOFFSETTO:-0500
TZNAME:CDT
DTSTART:20260308T080000
END:DAYLIGHT
BEGIN:STANDARD
TZOFFSETFROM:-0500
TZOFFSETTO:-0600
TZNAME:CST
DTSTART:20261101T070000
END:STANDARD
BEGIN:DAYLIGHT
TZOFFSETFROM:-0600
TZOFFSETTO:-0500
TZNAME:CDT
DTSTART:20270314T080000
END:DAYLIGHT
BEGIN:STANDARD
TZOFFSETFROM:-0500
TZOFFSETTO:-0600
TZNAME:CST
DTSTART:20271107T070000
END:STANDARD
END:VTIMEZONE
BEGIN:VTIMEZONE
TZID:America/Los_Angeles
BEGIN:DAYLIGHT
TZOFFSETFROM:-0800
TZOFFSETTO:-0700
TZNAME:PDT
DTSTART:20250309T100000
END:DAYLIGHT
BEGIN:STANDARD
TZOFFSETFROM:-0700
TZOFFSETTO:-0800
TZNAME:PST
DTSTART:20251102T090000
END:STANDARD
BEGIN:DAYLIGHT
TZOFFSETFROM:-0800
TZOFFSETTO:-0700
TZNAME:PDT
DTSTART:20260308T100000
END:DAYLIGHT
BEGIN:STANDARD
TZOFFSETFROM:-0700
TZOFFSETTO:-0800
TZNAME:PST
DTSTART:20261101T090000
END:STANDARD
BEGIN:DAYLIGHT
TZOFFSETFROM:-0800
TZOFFSETTO:-0700
TZNAME:PDT
DTSTART:20270314T100000
END:DAYLIGHT
BEGIN:STANDARD
TZOFFSETFROM:-0700
TZOFFSETTO:-0800
TZNAME:PST
DTSTART:20271107T090000
END:STANDARD
END:VTIMEZONE
BEGIN:VEVENT
DTSTART;TZID=America/Chicago:20260207T190000
DTEND;TZID=America/Chicago:20260207T203000
DTSTAMP:20260425T112717
CREATED:20251226T194501Z
LAST-MODIFIED:20260201T175757Z
UID:10000228-1770490800-1770496200@fellowshipofthephoenix.org
SUMMARY:Hearthfire Ritual *Online*
DESCRIPTION:Share in hearthfire magic with fellow queerfolk online. We will celebrate the gradual turning toward spring by blessing our own homes. Call it spiritual spring cleaning!  \n\n\n\nWe encourage everyone to have (1) some symbol of your hearthfire–a candle (LED counts) or something similar(2) a small bowl of waterIf you aren’t able to have those on hand\, we’ll talk you through doing it energetically.  \n\n\n\nPeople of all queer identities\, including questioning\, are welcome!  \n\n\n\nRitual will start promptly at 7 pm Central Time \n\n\n\nHosted by the Chicago Temple of the Fellowship of the Phoenix \n\n\n\nCopy and paste the Zoom link into your browser:https://us06web.zoom.us/j/83930333356?pwd=5SbCMUi3MD1aYrYbZAuEwmod5ZYeFb.1 \n\n\n\n\n\n\n\nYou can donate to the Chicago Temple at https://fotp.breezechms.com/give/online or use the QR code below. Please select the Chicago’s General Fund option.
URL:https://fellowshipofthephoenix.org/event/hearthfire-ritual-online-chicago/
LOCATION:WA
CATEGORIES:Holiday Ritual
ATTACH;FMTTYPE=image/jpeg:https://fellowshipofthephoenix.org/wp-content/uploads/2021/11/spiritsong-banner.jpg
ORGANIZER;CN="B.A. Davis-Howe":MAILTO:ba@fellowshipofthephoenix.org
END:VEVENT
BEGIN:VEVENT
DTSTART;TZID=America/Los_Angeles:20260214T173000
DTEND;TZID=America/Los_Angeles:20260214T200000
DTSTAMP:20260425T112717
CREATED:20260121T192359Z
LAST-MODIFIED:20260121T192755Z
UID:10000247-1771090200-1771099200@fellowshipofthephoenix.org
SUMMARY:SpiritSong Seattle - 2026
DESCRIPTION:SpiritSong is the Fellowship’s first ritual of the new year\, and it traditionally honors the Divine Youth and energies of Wonder. In Seattle\, this usually means sharing a playful vibe\, arts and crafts\, and lots of laughter as we anticipate the coming of spring.
URL:https://fellowshipofthephoenix.org/event/spiritsong-seattle-2026/
LOCATION:University Friends Meeting – Seattle\, 4001 9th Ave NE\, Seattle\, WA\, 98105\, United States
CATEGORIES:Holiday Ritual
ATTACH;FMTTYPE=image/jpeg:https://fellowshipofthephoenix.org/wp-content/uploads/2021/11/spiritsong-banner.jpg
END:VEVENT
END:VCALENDAR