BEGIN:VCALENDAR
VERSION:2.0
PRODID:-//Fellowship of the Phoenix - ECPv6.15.17.1//NONSGML v1.0//EN
CALSCALE:GREGORIAN
METHOD:PUBLISH
X-ORIGINAL-URL:https://fellowshipofthephoenix.org
X-WR-CALDESC:Events for Fellowship of the Phoenix
REFRESH-INTERVAL;VALUE=DURATION:PT1H
X-Robots-Tag:noindex
X-PUBLISHED-TTL:PT1H
BEGIN:VTIMEZONE
TZID:America/Chicago
BEGIN:DAYLIGHT
TZOFFSETFROM:-0600
TZOFFSETTO:-0500
TZNAME:CDT
DTSTART:20250309T080000
END:DAYLIGHT
BEGIN:STANDARD
TZOFFSETFROM:-0500
TZOFFSETTO:-0600
TZNAME:CST
DTSTART:20251102T070000
END:STANDARD
BEGIN:DAYLIGHT
TZOFFSETFROM:-0600
TZOFFSETTO:-0500
TZNAME:CDT
DTSTART:20260308T080000
END:DAYLIGHT
BEGIN:STANDARD
TZOFFSETFROM:-0500
TZOFFSETTO:-0600
TZNAME:CST
DTSTART:20261101T070000
END:STANDARD
BEGIN:DAYLIGHT
TZOFFSETFROM:-0600
TZOFFSETTO:-0500
TZNAME:CDT
DTSTART:20270314T080000
END:DAYLIGHT
BEGIN:STANDARD
TZOFFSETFROM:-0500
TZOFFSETTO:-0600
TZNAME:CST
DTSTART:20271107T070000
END:STANDARD
END:VTIMEZONE
BEGIN:VTIMEZONE
TZID:America/Los_Angeles
BEGIN:DAYLIGHT
TZOFFSETFROM:-0800
TZOFFSETTO:-0700
TZNAME:PDT
DTSTART:20250309T100000
END:DAYLIGHT
BEGIN:STANDARD
TZOFFSETFROM:-0700
TZOFFSETTO:-0800
TZNAME:PST
DTSTART:20251102T090000
END:STANDARD
BEGIN:DAYLIGHT
TZOFFSETFROM:-0800
TZOFFSETTO:-0700
TZNAME:PDT
DTSTART:20260308T100000
END:DAYLIGHT
BEGIN:STANDARD
TZOFFSETFROM:-0700
TZOFFSETTO:-0800
TZNAME:PST
DTSTART:20261101T090000
END:STANDARD
BEGIN:DAYLIGHT
TZOFFSETFROM:-0800
TZOFFSETTO:-0700
TZNAME:PDT
DTSTART:20270314T100000
END:DAYLIGHT
BEGIN:STANDARD
TZOFFSETFROM:-0700
TZOFFSETTO:-0800
TZNAME:PST
DTSTART:20271107T090000
END:STANDARD
END:VTIMEZONE
BEGIN:VEVENT
DTSTART;TZID=America/Chicago:20260509T140000
DTEND;TZID=America/Chicago:20260509T153000
DTSTAMP:20260425T101818
CREATED:20251226T201115Z
LAST-MODIFIED:20260120T201313Z
UID:10000230-1778335200-1778340600@fellowshipofthephoenix.org
SUMMARY:Faery Ritual - Chicago
DESCRIPTION:
URL:https://fellowshipofthephoenix.org/event/faery-ritual-chicago-2/
LOCATION:Life Force Arts Center\, 1609 W Belmont Ave\, Chicago\, IL\, 60657\, United States
CATEGORIES:Holiday Ritual
ATTACH;FMTTYPE=image/jpeg:https://fellowshipofthephoenix.org/wp-content/uploads/2021/11/firedance-banner.jpg
ORGANIZER;CN="Chris Allaun":MAILTO:chris.allaun@fotpchicago.org
END:VEVENT
BEGIN:VEVENT
DTSTART;TZID=America/Los_Angeles:20260516T160000
DTEND;TZID=America/Los_Angeles:20260516T171500
DTSTAMP:20260425T101818
CREATED:20260222T223613Z
LAST-MODIFIED:20260330T185756Z
UID:10000249-1778947200-1778951700@fellowshipofthephoenix.org
SUMMARY:Worshipping the Queer Self
DESCRIPTION:Our world can feel ever difficult to navigate as queer folk; full of messaging that tells us to stop being ourselves and systemic obstacles that seem to consistently push back on us. Calls for self-care are rampant – with excellent cause – but what often gets suggested as self-care might be more honestly called triage that ultimately supports the status quo. The advice to engage in more self care activities is too often limited in scope\, so let’s broaden our view of ourselves. \n\n\n\nWhat if we instead considered caring for our selves as a primary need instead of a response? What if we focused on our selves with the same level of devotion that we do our divinities and spirits? Let’s discuss the concept of self-care and our culture’s messaging surrounding it. The idea that we even need to be reminded to care for ourselves points to both personal and cultural conflict. As pagan\, polytheist\, or otherwise magical folks we already have tools of caring and love; we’ll talk about centering our selves in the work and worship that we’re already engaged in.
URL:https://fellowshipofthephoenix.org/event/worshipping-the-queer-self/
LOCATION:University Friends Meeting – Seattle\, 4001 9th Ave NE\, Seattle\, WA\, 98105\, United States
CATEGORIES:Workshop
ATTACH;FMTTYPE=image/jpeg:https://fellowshipofthephoenix.org/wp-content/uploads/2026/02/worshipping-the-queer-self-banner3mk2-scaled.jpg
END:VEVENT
BEGIN:VEVENT
DTSTART;TZID=America/Los_Angeles:20260516T173000
DTEND;TZID=America/Los_Angeles:20260516T200000
DTSTAMP:20260425T101818
CREATED:20260313T032840Z
LAST-MODIFIED:20260313T032843Z
UID:10000251-1778952600-1778961600@fellowshipofthephoenix.org
SUMMARY:FireDance Seattle - 2026
DESCRIPTION:
URL:https://fellowshipofthephoenix.org/event/firedance-seattle-2026/
LOCATION:University Friends Meeting – Seattle\, 4001 9th Ave NE\, Seattle\, WA\, 98105\, United States
CATEGORIES:Holiday Ritual
ATTACH;FMTTYPE=image/jpeg:https://fellowshipofthephoenix.org/wp-content/uploads/2021/11/firedance-banner.jpg
END:VEVENT
BEGIN:VEVENT
DTSTART;TZID=America/Chicago:20260519T190000
DTEND;TZID=America/Chicago:20260519T210000
DTSTAMP:20260425T101818
CREATED:20251226T202939Z
LAST-MODIFIED:20251226T202941Z
UID:10000239-1779217200-1779224400@fellowshipofthephoenix.org
SUMMARY:Fellowship Hangout
DESCRIPTION:Join us on the 3rd Tuesday of each month for some virtual social time – no agenda or set topic\, just drop in for some conversation with fellow queer pagans. Feel free to come and go as you wish. \n\n\n\nCopy and paste the Zoom link into your browser:https://us06web.zoom.us/j/83162893486?pwd=Nyybz7NWCpWixpOZ38xIOtWD2fVpHv.1
URL:https://fellowshipofthephoenix.org/event/fellowship-hangout-35/
LOCATION:WA
CATEGORIES:Social
ATTACH;FMTTYPE=image/png:https://fellowshipofthephoenix.org/wp-content/uploads/2023/03/hangout.png
ORGANIZER;CN="B.A. Davis-Howe":MAILTO:ba@fellowshipofthephoenix.org
END:VEVENT
END:VCALENDAR