BEGIN:VCALENDAR
VERSION:2.0
PRODID:-//Fellowship of the Phoenix - ECPv6.15.17.1//NONSGML v1.0//EN
CALSCALE:GREGORIAN
METHOD:PUBLISH
X-ORIGINAL-URL:https://fellowshipofthephoenix.org
X-WR-CALDESC:Events for Fellowship of the Phoenix
REFRESH-INTERVAL;VALUE=DURATION:PT1H
X-Robots-Tag:noindex
X-PUBLISHED-TTL:PT1H
BEGIN:VTIMEZONE
TZID:America/Los_Angeles
BEGIN:DAYLIGHT
TZOFFSETFROM:-0800
TZOFFSETTO:-0700
TZNAME:PDT
DTSTART:20240310T100000
END:DAYLIGHT
BEGIN:STANDARD
TZOFFSETFROM:-0700
TZOFFSETTO:-0800
TZNAME:PST
DTSTART:20241103T090000
END:STANDARD
BEGIN:DAYLIGHT
TZOFFSETFROM:-0800
TZOFFSETTO:-0700
TZNAME:PDT
DTSTART:20250309T100000
END:DAYLIGHT
BEGIN:STANDARD
TZOFFSETFROM:-0700
TZOFFSETTO:-0800
TZNAME:PST
DTSTART:20251102T090000
END:STANDARD
BEGIN:DAYLIGHT
TZOFFSETFROM:-0800
TZOFFSETTO:-0700
TZNAME:PDT
DTSTART:20260308T100000
END:DAYLIGHT
BEGIN:STANDARD
TZOFFSETFROM:-0700
TZOFFSETTO:-0800
TZNAME:PST
DTSTART:20261101T090000
END:STANDARD
END:VTIMEZONE
BEGIN:VEVENT
DTSTART;TZID=America/Los_Angeles:20250712T173000
DTEND;TZID=America/Los_Angeles:20250712T200000
DTSTAMP:20260425T214214
CREATED:20250120T011345Z
LAST-MODIFIED:20250120T011347Z
UID:10000196-1752341400-1752350400@fellowshipofthephoenix.org
SUMMARY:Apotheosis 2025 - Seattle
DESCRIPTION:Wherein: We will walk the Labyrinth with the Healer\, share in their virtue of Healing\, and celebrate the Solstice’s zenith!
URL:https://fellowshipofthephoenix.org/event/apotheosis-2025-seattle/
LOCATION:University Friends Meeting – Seattle\, 4001 9th Ave NE\, Seattle\, WA\, 98105\, United States
CATEGORIES:Holiday Ritual
ATTACH;FMTTYPE=image/jpeg:https://fellowshipofthephoenix.org/wp-content/uploads/2021/11/apotheosis-banner.jpg
END:VEVENT
BEGIN:VEVENT
DTSTART;TZID=America/Los_Angeles:20250726T120000
DTEND;TZID=America/Los_Angeles:20250726T140000
DTSTAMP:20260425T214214
CREATED:20250120T020145Z
LAST-MODIFIED:20250720T183255Z
UID:10000202-1753531200-1753538400@fellowshipofthephoenix.org
SUMMARY:Fellowship Book Club - CANCELLED
DESCRIPTION:This is the second meeting of our nascent Fellowship book club\, wherein members will explore fundamental books in Queer paganism as well as in our order\, specifically. \n\n\n\nThe second book will be Blossom of Bone: Reclaiming the Connections Between Homoeroticism and the Sacred  by Randy P. Conner. If you cannot acquire a copy through your library or other means\, please reach out to John O’Hara.
URL:https://fellowshipofthephoenix.org/event/fellowship-book-club-02/
LOCATION:Online (via zoom\, link TBD)
CATEGORIES:Social,Workshop
ATTACH;FMTTYPE=image/png:https://fellowshipofthephoenix.org/wp-content/uploads/2023/03/Queer-Gods-Faith-Magic.png
ORGANIZER;CN="John O'Hara":MAILTO:johnhohara93@gmail.com
END:VEVENT
END:VCALENDAR